Package: icetea Version: 1.18.1 Command: /home/biocbuild/bbs-3.17-bioc/R/bin/R CMD check --install=check:icetea.install-out.txt --library=/home/biocbuild/bbs-3.17-bioc/R/site-library --timings icetea_1.18.1.tar.gz StartedAt: 2023-10-15 22:05:44 -0400 (Sun, 15 Oct 2023) EndedAt: 2023-10-15 22:12:50 -0400 (Sun, 15 Oct 2023) EllapsedTime: 426.2 seconds RetCode: 0 Status: WARNINGS CheckDir: icetea.Rcheck Warnings: 1