Package: icetea Version: 1.18.1 Command: /Library/Frameworks/R.framework/Resources/bin/R CMD build --keep-empty-dirs --no-resave-data icetea StartedAt: 2023-10-15 18:56:48 -0400 (Sun, 15 Oct 2023) EndedAt: 2023-10-15 19:00:46 -0400 (Sun, 15 Oct 2023) EllapsedTime: 237.5 seconds RetCode: 0 Status: OK PackageFile: icetea_1.18.1.tar.gz PackageFileSize: 752.4 KiB