Package: ibh Version: 1.48.0 Command: rm -rf ibh.buildbin-libdir && mkdir ibh.buildbin-libdir && F:\biocbuild\bbs-3.17-bioc\R\bin\R.exe CMD INSTALL --build --library=ibh.buildbin-libdir ibh_1.48.0.tar.gz StartedAt: 2023-10-16 08:56:49 -0400 (Mon, 16 Oct 2023) EndedAt: 2023-10-16 08:57:02 -0400 (Mon, 16 Oct 2023) EllapsedTime: 12.4 seconds RetCode: 0 Status: OK PackageFile: ibh_1.48.0.zip PackageFileSize: 159.6 KiB