Package: ibh Version: 1.48.0 Command: /home/biocbuild/bbs-3.17-bioc/R/bin/R CMD build --keep-empty-dirs --no-resave-data ibh StartedAt: 2023-10-15 17:08:02 -0400 (Sun, 15 Oct 2023) EndedAt: 2023-10-15 17:08:07 -0400 (Sun, 15 Oct 2023) EllapsedTime: 4.9 seconds RetCode: 0 Status: OK PackageFile: ibh_1.48.0.tar.gz PackageFileSize: 127.6 KiB