Package: ibh Version: 1.48.0 Command: /Library/Frameworks/R.framework/Resources/bin/R CMD check --install=check:ibh.install-out.txt --library=/Library/Frameworks/R.framework/Resources/library --no-vignettes --timings ibh_1.48.0.tar.gz StartedAt: 2023-10-16 02:47:05 -0400 (Mon, 16 Oct 2023) EndedAt: 2023-10-16 02:47:48 -0400 (Mon, 16 Oct 2023) EllapsedTime: 43.0 seconds RetCode: 0 Status: OK CheckDir: ibh.Rcheck Warnings: 0