Package: ibh Version: 1.48.0 Command: rm -rf ibh.buildbin-libdir && mkdir ibh.buildbin-libdir && /Users/biocbuild/BBS/utils/build-universal.sh ibh_1.48.0.tar.gz /Library/Frameworks/R.framework/Resources/bin/R ibh.buildbin-libdir StartedAt: 2023-10-16 09:34:07 -0400 (Mon, 16 Oct 2023) EndedAt: 2023-10-16 09:34:13 -0400 (Mon, 16 Oct 2023) EllapsedTime: 6.5 seconds RetCode: 0 Status: OK PackageFile: ibh_1.48.0.tgz PackageFileSize: 156.3 KiB