Package: iasva Version: 1.18.0 Command: F:\biocbuild\bbs-3.17-bioc\R\bin\R.exe CMD INSTALL iasva StartedAt: 2023-10-15 16:05:44 -0400 (Sun, 15 Oct 2023) EndedAt: 2023-10-15 16:06:06 -0400 (Sun, 15 Oct 2023) EllapsedTime: 22.7 seconds RetCode: 0 Status: OK