Package: iasva Version: 1.18.0 Command: chmod a+r iasva -R && F:\biocbuild\bbs-3.17-bioc\R\bin\R.exe CMD build --keep-empty-dirs --no-resave-data iasva StartedAt: 2023-10-15 19:52:12 -0400 (Sun, 15 Oct 2023) EndedAt: 2023-10-15 19:53:02 -0400 (Sun, 15 Oct 2023) EllapsedTime: 50.0 seconds RetCode: 0 Status: OK PackageFile: iasva_1.18.0.tar.gz PackageFileSize: 856.5 KiB