Package: iasva Version: 1.18.0 Command: rm -rf iasva.buildbin-libdir && mkdir iasva.buildbin-libdir && F:\biocbuild\bbs-3.17-bioc\R\bin\R.exe CMD INSTALL --build --library=iasva.buildbin-libdir iasva_1.18.0.tar.gz StartedAt: 2023-10-16 08:56:46 -0400 (Mon, 16 Oct 2023) EndedAt: 2023-10-16 08:57:09 -0400 (Mon, 16 Oct 2023) EllapsedTime: 23.3 seconds RetCode: 0 Status: OK PackageFile: iasva_1.18.0.zip PackageFileSize: 882.5 KiB