Package: iasva Version: 1.18.0 Command: /home/biocbuild/bbs-3.17-bioc/R/bin/R CMD check --install=check:iasva.install-out.txt --library=/home/biocbuild/bbs-3.17-bioc/R/site-library --timings iasva_1.18.0.tar.gz StartedAt: 2023-10-15 22:05:05 -0400 (Sun, 15 Oct 2023) EndedAt: 2023-10-15 22:08:33 -0400 (Sun, 15 Oct 2023) EllapsedTime: 207.9 seconds RetCode: 0 Status: OK CheckDir: iasva.Rcheck Warnings: 0