Package: iasva Version: 1.18.0 Command: /home/biocbuild/bbs-3.17-bioc/R/bin/R CMD build --keep-empty-dirs --no-resave-data iasva StartedAt: 2023-10-15 17:07:59 -0400 (Sun, 15 Oct 2023) EndedAt: 2023-10-15 17:08:47 -0400 (Sun, 15 Oct 2023) EllapsedTime: 48.5 seconds RetCode: 0 Status: OK PackageFile: iasva_1.18.0.tar.gz PackageFileSize: 1.069 MiB