Package: iasva Version: 1.18.0 Command: /Library/Frameworks/R.framework/Resources/bin/R CMD INSTALL iasva StartedAt: 2023-10-15 15:20:54 -0400 (Sun, 15 Oct 2023) EndedAt: 2023-10-15 15:21:55 -0400 (Sun, 15 Oct 2023) EllapsedTime: 60.9 seconds RetCode: 0 Status: OK