Package: iasva Version: 1.18.0 Command: /Library/Frameworks/R.framework/Resources/bin/R CMD check --install=check:iasva.install-out.txt --library=/Library/Frameworks/R.framework/Resources/library --no-vignettes --timings iasva_1.18.0.tar.gz StartedAt: 2023-10-16 02:46:21 -0400 (Mon, 16 Oct 2023) EndedAt: 2023-10-16 02:54:24 -0400 (Mon, 16 Oct 2023) EllapsedTime: 482.6 seconds RetCode: 0 Status: OK CheckDir: iasva.Rcheck Warnings: 0