Package: iSEEu Version: 1.12.0 Command: chmod a+r iSEEu -R && F:\biocbuild\bbs-3.17-bioc\R\bin\R.exe CMD build --keep-empty-dirs --no-resave-data iSEEu StartedAt: 2023-10-15 20:01:01 -0400 (Sun, 15 Oct 2023) EndedAt: 2023-10-15 20:02:52 -0400 (Sun, 15 Oct 2023) EllapsedTime: 110.7 seconds RetCode: 0 Status: OK PackageFile: iSEEu_1.12.0.tar.gz PackageFileSize: 1.354 MiB