Package: iSEEu Version: 1.12.0 Command: rm -rf iSEEu.buildbin-libdir && mkdir iSEEu.buildbin-libdir && F:\biocbuild\bbs-3.17-bioc\R\bin\R.exe CMD INSTALL --build --library=iSEEu.buildbin-libdir iSEEu_1.12.0.tar.gz StartedAt: 2023-10-16 08:58:50 -0400 (Mon, 16 Oct 2023) EndedAt: 2023-10-16 08:59:35 -0400 (Mon, 16 Oct 2023) EllapsedTime: 45.2 seconds RetCode: 0 Status: OK PackageFile: iSEEu_1.12.0.zip PackageFileSize: 1.287 MiB