Package: iSEEu Version: 1.12.0 Command: /home/biocbuild/bbs-3.17-bioc/R/bin/R CMD INSTALL iSEEu StartedAt: 2023-10-15 15:28:55 -0400 (Sun, 15 Oct 2023) EndedAt: 2023-10-15 15:29:26 -0400 (Sun, 15 Oct 2023) EllapsedTime: 31.5 seconds RetCode: 0 Status: OK