Package: iSEEu Version: 1.12.0 Command: /home/biocbuild/bbs-3.17-bioc/R/bin/R CMD check --install=check:iSEEu.install-out.txt --library=/home/biocbuild/bbs-3.17-bioc/R/site-library --timings iSEEu_1.12.0.tar.gz StartedAt: 2023-10-15 22:15:34 -0400 (Sun, 15 Oct 2023) EndedAt: 2023-10-15 22:21:54 -0400 (Sun, 15 Oct 2023) EllapsedTime: 380.4 seconds RetCode: 0 Status: WARNINGS CheckDir: iSEEu.Rcheck Warnings: 1