Package: iSEEu Version: 1.12.0 Command: /Library/Frameworks/R.framework/Resources/bin/R CMD INSTALL iSEEu StartedAt: 2023-10-15 15:50:33 -0400 (Sun, 15 Oct 2023) EndedAt: 2023-10-15 15:52:20 -0400 (Sun, 15 Oct 2023) EllapsedTime: 106.4 seconds RetCode: 0 Status: OK