Package: iSEEhub Version: 1.2.1 Command: rm -rf iSEEhub.buildbin-libdir && mkdir iSEEhub.buildbin-libdir && F:\biocbuild\bbs-3.17-bioc\R\bin\R.exe CMD INSTALL --build --library=iSEEhub.buildbin-libdir iSEEhub_1.2.1.tar.gz StartedAt: 2023-10-16 08:58:48 -0400 (Mon, 16 Oct 2023) EndedAt: 2023-10-16 08:59:33 -0400 (Mon, 16 Oct 2023) EllapsedTime: 44.2 seconds RetCode: 0 Status: OK PackageFile: iSEEhub_1.2.1.zip PackageFileSize: 3.69 MiB