Package: iSEEhub Version: 1.2.1 Command: /Library/Frameworks/R.framework/Resources/bin/R CMD check --install=check:iSEEhub.install-out.txt --library=/Library/Frameworks/R.framework/Resources/library --no-vignettes --timings iSEEhub_1.2.1.tar.gz StartedAt: 2023-10-16 03:00:42 -0400 (Mon, 16 Oct 2023) EndedAt: 2023-10-16 03:10:59 -0400 (Mon, 16 Oct 2023) EllapsedTime: 616.7 seconds RetCode: 0 Status: OK CheckDir: iSEEhub.Rcheck Warnings: 0