Package: iSEEhub Version: 1.2.1 Command: rm -rf iSEEhub.buildbin-libdir && mkdir iSEEhub.buildbin-libdir && /Users/biocbuild/BBS/utils/build-universal.sh iSEEhub_1.2.1.tar.gz /Library/Frameworks/R.framework/Resources/bin/R iSEEhub.buildbin-libdir StartedAt: 2023-10-16 09:36:10 -0400 (Mon, 16 Oct 2023) EndedAt: 2023-10-16 09:38:00 -0400 (Mon, 16 Oct 2023) EllapsedTime: 109.8 seconds RetCode: 0 Status: OK PackageFile: iSEEhub_1.2.1.tgz PackageFileSize: 3.687 MiB