Package: iSEEhex Version: 1.2.0 Command: /Library/Frameworks/R.framework/Resources/bin/R CMD INSTALL iSEEhex StartedAt: 2023-10-15 15:49:00 -0400 (Sun, 15 Oct 2023) EndedAt: 2023-10-15 15:50:33 -0400 (Sun, 15 Oct 2023) EllapsedTime: 92.9 seconds RetCode: 0 Status: OK