Package: iSEEhex Version: 1.2.0 Command: /Library/Frameworks/R.framework/Resources/bin/R CMD check --install=check:iSEEhex.install-out.txt --library=/Library/Frameworks/R.framework/Resources/library --no-vignettes --timings iSEEhex_1.2.0.tar.gz StartedAt: 2023-10-16 03:00:23 -0400 (Mon, 16 Oct 2023) EndedAt: 2023-10-16 03:10:11 -0400 (Mon, 16 Oct 2023) EllapsedTime: 588.0 seconds RetCode: 0 Status: OK CheckDir: iSEEhex.Rcheck Warnings: 0