Package: iSEEhex Version: 1.2.0 Command: /Library/Frameworks/R.framework/Resources/bin/R CMD build --keep-empty-dirs --no-resave-data iSEEhex StartedAt: 2023-10-15 19:04:38 -0400 (Sun, 15 Oct 2023) EndedAt: 2023-10-15 19:06:59 -0400 (Sun, 15 Oct 2023) EllapsedTime: 140.9 seconds RetCode: 0 Status: OK PackageFile: iSEEhex_1.2.0.tar.gz PackageFileSize: 486.2 KiB