Package: iSEEhex Version: 1.2.0 Command: rm -rf iSEEhex.buildbin-libdir && mkdir iSEEhex.buildbin-libdir && /Users/biocbuild/BBS/utils/build-universal.sh iSEEhex_1.2.0.tar.gz /Library/Frameworks/R.framework/Resources/bin/R iSEEhex.buildbin-libdir StartedAt: 2023-10-16 09:36:07 -0400 (Mon, 16 Oct 2023) EndedAt: 2023-10-16 09:37:40 -0400 (Mon, 16 Oct 2023) EllapsedTime: 93.3 seconds RetCode: 0 Status: OK PackageFile: iSEEhex_1.2.0.tgz PackageFileSize: 559.5 KiB