Package: iPAC Version: 1.44.0 Command: chmod a+r iPAC -R && F:\biocbuild\bbs-3.17-bioc\R\bin\R.exe CMD build --keep-empty-dirs --no-resave-data iPAC StartedAt: 2023-10-15 19:59:49 -0400 (Sun, 15 Oct 2023) EndedAt: 2023-10-15 20:00:12 -0400 (Sun, 15 Oct 2023) EllapsedTime: 23.3 seconds RetCode: 0 Status: OK PackageFile: iPAC_1.44.0.tar.gz PackageFileSize: 451.3 KiB