Package: iPAC Version: 1.44.0 Command: /home/biocbuild/bbs-3.17-bioc/R/bin/R CMD build --keep-empty-dirs --no-resave-data iPAC StartedAt: 2023-10-15 17:12:12 -0400 (Sun, 15 Oct 2023) EndedAt: 2023-10-15 17:12:29 -0400 (Sun, 15 Oct 2023) EllapsedTime: 16.9 seconds RetCode: 0 Status: OK PackageFile: iPAC_1.44.0.tar.gz PackageFileSize: 448.1 KiB