Package: iPAC Version: 1.44.0 Command: rm -rf iPAC.buildbin-libdir && mkdir iPAC.buildbin-libdir && /Users/biocbuild/BBS/utils/build-universal.sh iPAC_1.44.0.tar.gz /Library/Frameworks/R.framework/Resources/bin/R iPAC.buildbin-libdir StartedAt: 2023-10-16 09:35:30 -0400 (Mon, 16 Oct 2023) EndedAt: 2023-10-16 09:36:21 -0400 (Mon, 16 Oct 2023) EllapsedTime: 51.2 seconds RetCode: 0 Status: OK PackageFile: iPAC_1.44.0.tgz PackageFileSize: 559.4 KiB