Package: iGC Version: 1.30.0 Command: F:\biocbuild\bbs-3.17-bioc\R\bin\R.exe CMD INSTALL iGC StartedAt: 2023-10-15 15:49:40 -0400 (Sun, 15 Oct 2023) EndedAt: 2023-10-15 15:49:47 -0400 (Sun, 15 Oct 2023) EllapsedTime: 7.6 seconds RetCode: 0 Status: OK