Package: iGC Version: 1.30.0 Command: chmod a+r iGC -R && F:\biocbuild\bbs-3.17-bioc\R\bin\R.exe CMD build --keep-empty-dirs --no-resave-data iGC StartedAt: 2023-10-15 19:54:43 -0400 (Sun, 15 Oct 2023) EndedAt: 2023-10-15 19:55:12 -0400 (Sun, 15 Oct 2023) EllapsedTime: 29.1 seconds RetCode: 0 Status: OK PackageFile: iGC_1.30.0.tar.gz PackageFileSize: 2.95 MiB