Package: iGC Version: 1.30.0 Command: rm -rf iGC.buildbin-libdir && mkdir iGC.buildbin-libdir && F:\biocbuild\bbs-3.17-bioc\R\bin\R.exe CMD INSTALL --build --library=iGC.buildbin-libdir iGC_1.30.0.tar.gz StartedAt: 2023-10-16 08:57:14 -0400 (Mon, 16 Oct 2023) EndedAt: 2023-10-16 08:57:25 -0400 (Mon, 16 Oct 2023) EllapsedTime: 11.5 seconds RetCode: 0 Status: OK PackageFile: iGC_1.30.0.zip PackageFileSize: 3.142 MiB