Package: iGC Version: 1.30.0 Command: /home/biocbuild/bbs-3.17-bioc/R/bin/R CMD INSTALL iGC StartedAt: 2023-10-15 15:08:12 -0400 (Sun, 15 Oct 2023) EndedAt: 2023-10-15 15:08:31 -0400 (Sun, 15 Oct 2023) EllapsedTime: 18.8 seconds RetCode: 0 Status: OK