Package: iGC Version: 1.30.0 Command: /home/biocbuild/bbs-3.17-bioc/R/bin/R CMD check --install=check:iGC.install-out.txt --library=/home/biocbuild/bbs-3.17-bioc/R/site-library --timings iGC_1.30.0.tar.gz StartedAt: 2023-10-15 22:07:02 -0400 (Sun, 15 Oct 2023) EndedAt: 2023-10-15 22:07:42 -0400 (Sun, 15 Oct 2023) EllapsedTime: 39.7 seconds RetCode: 0 Status: OK CheckDir: iGC.Rcheck Warnings: 0