Package: iGC Version: 1.30.0 Command: /home/biocbuild/bbs-3.17-bioc/R/bin/R CMD build --keep-empty-dirs --no-resave-data iGC StartedAt: 2023-10-15 17:08:45 -0400 (Sun, 15 Oct 2023) EndedAt: 2023-10-15 17:09:08 -0400 (Sun, 15 Oct 2023) EllapsedTime: 23.2 seconds RetCode: 0 Status: OK PackageFile: iGC_1.30.0.tar.gz PackageFileSize: 2.95 MiB