Package: iGC Version: 1.30.0 Command: /Library/Frameworks/R.framework/Resources/bin/R CMD INSTALL iGC StartedAt: 2023-10-15 15:05:30 -0400 (Sun, 15 Oct 2023) EndedAt: 2023-10-15 15:06:22 -0400 (Sun, 15 Oct 2023) EllapsedTime: 51.9 seconds RetCode: 0 Status: OK