Package: iGC Version: 1.30.0 Command: /Library/Frameworks/R.framework/Resources/bin/R CMD check --install=check:iGC.install-out.txt --library=/Library/Frameworks/R.framework/Resources/library --no-vignettes --timings iGC_1.30.0.tar.gz StartedAt: 2023-10-16 02:50:06 -0400 (Mon, 16 Oct 2023) EndedAt: 2023-10-16 02:51:09 -0400 (Mon, 16 Oct 2023) EllapsedTime: 62.8 seconds RetCode: 0 Status: OK CheckDir: iGC.Rcheck Warnings: 0