Package: iGC Version: 1.30.0 Command: /Library/Frameworks/R.framework/Resources/bin/R CMD build --keep-empty-dirs --no-resave-data iGC StartedAt: 2023-10-15 18:58:19 -0400 (Sun, 15 Oct 2023) EndedAt: 2023-10-15 18:59:24 -0400 (Sun, 15 Oct 2023) EllapsedTime: 64.6 seconds RetCode: 0 Status: OK PackageFile: iGC_1.30.0.tar.gz PackageFileSize: 2.951 MiB