Package: iClusterPlus Version: 1.36.1 Command: F:\biocbuild\bbs-3.17-bioc\R\bin\R.exe CMD INSTALL iClusterPlus StartedAt: 2023-10-15 15:52:41 -0400 (Sun, 15 Oct 2023) EndedAt: 2023-10-15 15:53:19 -0400 (Sun, 15 Oct 2023) EllapsedTime: 38.0 seconds RetCode: 0 Status: OK