Package: iClusterPlus Version: 1.36.1 Command: chmod a+r iClusterPlus -R && F:\biocbuild\bbs-3.17-bioc\R\bin\R.exe CMD build --keep-empty-dirs --no-resave-data iClusterPlus StartedAt: 2023-10-15 19:52:54 -0400 (Sun, 15 Oct 2023) EndedAt: 2023-10-15 19:53:26 -0400 (Sun, 15 Oct 2023) EllapsedTime: 32.0 seconds RetCode: 0 Status: OK PackageFile: iClusterPlus_1.36.1.tar.gz PackageFileSize: 20.6 MiB