Package: iClusterPlus Version: 1.36.1 Command: /Library/Frameworks/R.framework/Resources/bin/R CMD INSTALL iClusterPlus StartedAt: 2023-10-15 15:08:14 -0400 (Sun, 15 Oct 2023) EndedAt: 2023-10-15 15:09:37 -0400 (Sun, 15 Oct 2023) EllapsedTime: 83.2 seconds RetCode: 0 Status: OK