Package: iClusterPlus Version: 1.36.1 Command: /Library/Frameworks/R.framework/Resources/bin/R CMD build --keep-empty-dirs --no-resave-data iClusterPlus StartedAt: 2023-10-15 18:56:57 -0400 (Sun, 15 Oct 2023) EndedAt: 2023-10-15 18:58:24 -0400 (Sun, 15 Oct 2023) EllapsedTime: 86.8 seconds RetCode: 0 Status: OK PackageFile: iClusterPlus_1.36.1.tar.gz PackageFileSize: 20.69 MiB