Package: iCheck Version: 1.30.0 Command: rm -rf iCheck.buildbin-libdir && mkdir iCheck.buildbin-libdir && F:\biocbuild\bbs-3.17-bioc\R\bin\R.exe CMD INSTALL --build --library=iCheck.buildbin-libdir iCheck_1.30.0.tar.gz StartedAt: 2023-10-16 08:56:57 -0400 (Mon, 16 Oct 2023) EndedAt: 2023-10-16 08:57:54 -0400 (Mon, 16 Oct 2023) EllapsedTime: 56.7 seconds RetCode: 0 Status: OK PackageFile: iCheck_1.30.0.zip PackageFileSize: 596.4 KiB