Package: iCheck Version: 1.30.0 Command: /home/biocbuild/bbs-3.17-bioc/R/bin/R CMD INSTALL iCheck StartedAt: 2023-10-15 15:47:26 -0400 (Sun, 15 Oct 2023) EndedAt: 2023-10-15 15:48:14 -0400 (Sun, 15 Oct 2023) EllapsedTime: 48.3 seconds RetCode: 0 Status: OK