Package: iCheck Version: 1.30.0 Command: /home/biocbuild/bbs-3.17-bioc/R/bin/R CMD build --keep-empty-dirs --no-resave-data iCheck StartedAt: 2023-10-15 17:08:08 -0400 (Sun, 15 Oct 2023) EndedAt: 2023-10-15 17:09:13 -0400 (Sun, 15 Oct 2023) EllapsedTime: 65.6 seconds RetCode: 0 Status: OK PackageFile: iCheck_1.30.0.tar.gz PackageFileSize: 379.1 KiB