Package: iCheck Version: 1.30.0 Command: /Library/Frameworks/R.framework/Resources/bin/R CMD check --install=check:iCheck.install-out.txt --library=/Library/Frameworks/R.framework/Resources/library --no-vignettes --timings iCheck_1.30.0.tar.gz StartedAt: 2023-10-16 02:47:46 -0400 (Mon, 16 Oct 2023) EndedAt: 2023-10-16 03:00:23 -0400 (Mon, 16 Oct 2023) EllapsedTime: 757.1 seconds RetCode: 0 Status: OK CheckDir: iCheck.Rcheck Warnings: 0