Package: iCOBRA Version: 1.28.1 Command: F:\biocbuild\bbs-3.17-bioc\R\bin\R.exe CMD check --no-multiarch --install=check:iCOBRA.install-out.txt --library=F:\biocbuild\bbs-3.17-bioc\R\library --no-vignettes --timings iCOBRA_1.28.1.tar.gz StartedAt: 2023-10-16 03:09:24 -0400 (Mon, 16 Oct 2023) EndedAt: 2023-10-16 03:11:29 -0400 (Mon, 16 Oct 2023) EllapsedTime: 125.1 seconds RetCode: 0 Status: OK CheckDir: iCOBRA.Rcheck Warnings: 0