Package: iCARE Version: 1.28.0 Command: /home/biocbuild/bbs-3.17-bioc/R/bin/R CMD check --install=check:iCARE.install-out.txt --library=/home/biocbuild/bbs-3.17-bioc/R/site-library --timings iCARE_1.28.0.tar.gz StartedAt: 2023-10-15 22:05:32 -0400 (Sun, 15 Oct 2023) EndedAt: 2023-10-15 22:12:40 -0400 (Sun, 15 Oct 2023) EllapsedTime: 427.9 seconds RetCode: 0 Status: WARNINGS CheckDir: iCARE.Rcheck Warnings: 1