Package: iBMQ Version: 1.40.0 Command: rm -rf iBMQ.buildbin-libdir && mkdir iBMQ.buildbin-libdir && F:\biocbuild\bbs-3.17-bioc\R\bin\R.exe CMD INSTALL --build --library=iBMQ.buildbin-libdir iBMQ_1.40.0.tar.gz StartedAt: 2023-10-16 08:56:51 -0400 (Mon, 16 Oct 2023) EndedAt: 2023-10-16 08:57:17 -0400 (Mon, 16 Oct 2023) EllapsedTime: 25.8 seconds RetCode: 0 Status: OK PackageFile: iBMQ_1.40.0.zip PackageFileSize: 2.442 MiB