Package: hypergraph Version: 1.72.0 Command: F:\biocbuild\bbs-3.17-bioc\R\bin\R.exe CMD check --no-multiarch --install=check:hypergraph.install-out.txt --library=F:\biocbuild\bbs-3.17-bioc\R\library --no-vignettes --timings hypergraph_1.72.0.tar.gz StartedAt: 2023-10-16 03:06:58 -0400 (Mon, 16 Oct 2023) EndedAt: 2023-10-16 03:07:28 -0400 (Mon, 16 Oct 2023) EllapsedTime: 29.8 seconds RetCode: 0 Status: OK CheckDir: hypergraph.Rcheck Warnings: 0