Package: hypergraph Version: 1.72.0 Command: chmod a+r hypergraph -R && F:\biocbuild\bbs-3.17-bioc\R\bin\R.exe CMD build --keep-empty-dirs --no-resave-data hypergraph StartedAt: 2023-10-15 19:52:07 -0400 (Sun, 15 Oct 2023) EndedAt: 2023-10-15 19:52:08 -0400 (Sun, 15 Oct 2023) EllapsedTime: 1.0 seconds RetCode: 0 Status: OK PackageFile: hypergraph_1.72.0.tar.gz PackageFileSize: 8.253 KiB